{
 "fullExtent": {
  "ymin": -85.05112882006438,
  "xmin": -180,
  "ymax": 85.05112882006433,
  "xmax": 180,
  "spatialReference": {
   "latestWKID": 4610,
   "wkid": 4610
  }
 },
 "capabilities": "Map,Data,Query",
 "supportsDynamicLayers": false,
 "maxScale": 0,
 "singleFusedMapCache": true,
 "tileInfo": {
  "lods": [
   {
    "level": 0,
    "scale": 5.91658710909131E8,
    "resolution": 1.4062499999999996
   },
   {
    "level": 1,
    "scale": 2.95829355454566E8,
    "resolution": 0.703125000000001
   },
   {
    "level": 2,
    "scale": 1.47914677727283E8,
    "resolution": 0.3515625000000005
   },
   {
    "level": 3,
    "scale": 7.39573388636414E7,
    "resolution": 0.17578124999999997
   },
   {
    "level": 4,
    "scale": 3.69786694318207E7,
    "resolution": 0.08789062499999999
   },
   {
    "level": 5,
    "scale": 1.84893347159103E7,
    "resolution": 0.04394531249999988
   },
   {
    "level": 6,
    "scale": 9244667.35795517,
    "resolution": 0.02197265624999999
   },
   {
    "level": 7,
    "scale": 4622333.67897759,
    "resolution": 0.010986328125000005
   },
   {
    "level": 8,
    "scale": 2311166.83948879,
    "resolution": 0.0054931640624999905
   },
   {
    "level": 9,
    "scale": 1155583.4197444,
    "resolution": 0.0027465820312500074
   },
   {
    "level": 10,
    "scale": 577791.709872198,
    "resolution": 0.0013732910156249987
   },
   {
    "level": 11,
    "scale": 288895.854936099,
    "resolution": 6.866455078124993E-4
   },
   {
    "level": 12,
    "scale": 144447.92746805,
    "resolution": 3.433227539062509E-4
   }
  ],
  "origin": {
   "x": -180,
   "y": 85.05112882006433,
   "m": null
  },
  "format": null,
  "rows": 256,
  "dpi": 96,
  "spatialReference": {
   "latestWKID": 4610,
   "wkid": 4610
  },
  "cols": 256
 },
 "description": "",
 "units": "esriDecimalDegrees",
 "currentVersion": "10.21",
 "supportedImageFormatTypes": "PNG,JPG",
 "supportedQueryFormats": null,
 "initialExtent": {
  "ymin": -23.291004692269883,
  "xmin": 3.164061011762481,
  "ymax": 21.708974141684838,
  "xmax": 48.1640398457172,
  "spatialReference": {
   "latestWKID": 4610,
   "wkid": 4610
  }
 },
 "layers": [
  {
   "subLayerIds": [
    1,
    2,
    3,
    4,
    5,
    6,
    7,
    8,
    9,
    10,
    11,
    12,
    13,
    14,
    15,
    16,
    17,
    18,
    19,
    20,
    21,
    22,
    23,
    24,
    25,
    26,
    27,
    28,
    29,
    30,
    31,
    32,
    33,
    34,
    35,
    36,
    37,
    38,
    39,
    40,
    41,
    42,
    43,
    44,
    45,
    46,
    47,
    48,
    49,
    50,
    51,
    52,
    53,
    54,
    55,
    56,
    57,
    58,
    59,
    60,
    61,
    62,
    63,
    64,
    65,
    66,
    67,
    68,
    69,
    70,
    71,
    72,
    73,
    74,
    75,
    76,
    77,
    78,
    79,
    80
   ],
   "maxScale": 0,
   "name": "China_4610",
   "defaultVisibility": true,
   "id": 0,
   "minScale": 0,
   "supportsDynamicLegends": false,
   "type": "Feature Layer",
   "parentLayerId": -1,
   "geometryType": null
  },
  {
   "subLayerIds": [],
   "maxScale": 9244667.35795517,
   "name": "GangAo_ln@China",
   "defaultVisibility": true,
   "id": 1,
   "minScale": 3.69786694318207E7,
   "supportsDynamicLegends": true,
   "type": "Feature Layer",
   "parentLayerId": 0,
   "geometryType": "esriGeometryPolyline"
  },
  {
   "subLayerIds": [],
   "maxScale": 1.84893347159103E7,
   "name": "China_provincename_A_txt@China",
   "defaultVisibility": true,
   "id": 2,
   "minScale": 3.69786694318207E7,
   "supportsDynamicLegends": false,
   "type": "Feature Layer",
   "parentLayerId": 0,
   "geometryType": null
  },
  {
   "subLayerIds": [],
   "maxScale": 9244667.35795517,
   "name": "China_provincename_B_txt@China",
   "defaultVisibility": true,
   "id": 3,
   "minScale": 1.84893347159103E7,
   "supportsDynamicLegends": false,
   "type": "Feature Layer",
   "parentLayerId": 0,
   "geometryType": null
  },
  {
   "subLayerIds": [],
   "maxScale": 577791.709872198,
   "name": "xingkaihu_C@China",
   "defaultVisibility": true,
   "id": 4,
   "minScale": 1155583.4197444,
   "supportsDynamicLegends": false,
   "type": "Feature Layer",
   "parentLayerId": 0,
   "geometryType": null
  },
  {
   "subLayerIds": [],
   "maxScale": 1155583.4197444,
   "name": "xingkaihu_B@China",
   "defaultVisibility": true,
   "id": 5,
   "minScale": 2311166.83948879,
   "supportsDynamicLegends": false,
   "type": "Feature Layer",
   "parentLayerId": 0,
   "geometryType": null
  },
  {
   "subLayerIds": [],
   "maxScale": 2311166.83948879,
   "name": "xingkaihu_A@China",
   "defaultVisibility": true,
   "id": 6,
   "minScale": 4622333.67897759,
   "supportsDynamicLegends": false,
   "type": "Feature Layer",
   "parentLayerId": 0,
   "geometryType": null
  },
  {
   "subLayerIds": [],
   "maxScale": 0,
   "name": "Airport_pt@China",
   "defaultVisibility": true,
   "id": 7,
   "minScale": 577791.7098721984,
   "supportsDynamicLegends": true,
   "type": "Feature Layer",
   "parentLayerId": 0,
   "geometryType": "esriGeometryPoint"
  },
  {
   "subLayerIds": [],
   "maxScale": 144447.92746805,
   "name": "rivers@China#2",
   "defaultVisibility": true,
   "id": 8,
   "minScale": 577791.709872198,
   "supportsDynamicLegends": true,
   "type": "Feature Layer",
   "parentLayerId": 0,
   "geometryType": "esriGeometryPoint"
  },
  {
   "subLayerIds": [],
   "maxScale": 577791.709872198,
   "name": "rivers@China#1",
   "defaultVisibility": true,
   "id": 9,
   "minScale": 1155583.4197444,
   "supportsDynamicLegends": true,
   "type": "Feature Layer",
   "parentLayerId": 0,
   "geometryType": "esriGeometryPoint"
  },
  {
   "subLayerIds": [],
   "maxScale": 0,
   "name": "Provincial_Road_ln@China#3",
   "defaultVisibility": true,
   "id": 10,
   "minScale": 288895.854936099,
   "supportsDynamicLegends": true,
   "type": "Feature Layer",
   "parentLayerId": 0,
   "geometryType": "esriGeometryPolyline"
  },
  {
   "subLayerIds": [],
   "maxScale": 0,
   "name": "Arterial_Road_ln@China#2",
   "defaultVisibility": true,
   "id": 11,
   "minScale": 288895.854936099,
   "supportsDynamicLegends": true,
   "type": "Feature Layer",
   "parentLayerId": 0,
   "geometryType": "esriGeometryPolyline"
  },
  {
   "subLayerIds": [],
   "maxScale": 0,
   "name": "Main_Road_L@China#3",
   "defaultVisibility": true,
   "id": 12,
   "minScale": 1155583.4197444,
   "supportsDynamicLegends": true,
   "type": "Feature Layer",
   "parentLayerId": 0,
   "geometryType": "esriGeometryPolyline"
  },
  {
   "subLayerIds": [],
   "maxScale": 0,
   "name": "Main_Road_L@China#2",
   "defaultVisibility": true,
   "id": 13,
   "minScale": 1155583.4197444,
   "supportsDynamicLegends": true,
   "type": "Feature Layer",
   "parentLayerId": 0,
   "geometryType": "esriGeometryPolyline"
  },
  {
   "subLayerIds": [],
   "maxScale": 0,
   "name": "China_MainHydside_pg@China#1",
   "defaultVisibility": true,
   "id": 14,
   "minScale": 4622333.67897759,
   "supportsDynamicLegends": true,
   "type": "Feature Layer",
   "parentLayerId": 0,
   "geometryType": "esriGeometryPolygon"
  },
  {
   "subLayerIds": [],
   "maxScale": 0,
   "name": "China_SecHydside_pl@China#1",
   "defaultVisibility": true,
   "id": 15,
   "minScale": 1155583.4197444,
   "supportsDynamicLegends": true,
   "type": "Feature Layer",
   "parentLayerId": 0,
   "geometryType": "esriGeometryPolygon"
  },
  {
   "subLayerIds": [],
   "maxScale": 0,
   "name": "Main_River_pg@China",
   "defaultVisibility": true,
   "id": 16,
   "minScale": 2311166.83948879,
   "supportsDynamicLegends": true,
   "type": "Feature Layer",
   "parentLayerId": 0,
   "geometryType": "esriGeometryPolygon"
  },
  {
   "subLayerIds": [],
   "maxScale": 0,
   "name": "China_Rural_pt@China#1",
   "defaultVisibility": true,
   "id": 17,
   "minScale": 288895.854936099,
   "supportsDynamicLegends": true,
   "type": "Feature Layer",
   "parentLayerId": 0,
   "geometryType": "esriGeometryPoint"
  },
  {
   "subLayerIds": [],
   "maxScale": 288895.854936099,
   "name": "China_Rural_pt@China#2",
   "defaultVisibility": true,
   "id": 18,
   "minScale": 577791.709872198,
   "supportsDynamicLegends": true,
   "type": "Feature Layer",
   "parentLayerId": 0,
   "geometryType": "esriGeometryPoint"
  },
  {
   "subLayerIds": [],
   "maxScale": 72223.9637340248,
   "name": "District_pt@China#1",
   "defaultVisibility": true,
   "id": 19,
   "minScale": 577791.709872198,
   "supportsDynamicLegends": true,
   "type": "Feature Layer",
   "parentLayerId": 0,
   "geometryType": "esriGeometryPoint"
  },
  {
   "subLayerIds": [],
   "maxScale": 72223.9637340248,
   "name": "District_pt@China#2",
   "defaultVisibility": true,
   "id": 20,
   "minScale": 577791.709872198,
   "supportsDynamicLegends": true,
   "type": "Feature Layer",
   "parentLayerId": 0,
   "geometryType": "esriGeometryPoint"
  },
  {
   "subLayerIds": [],
   "maxScale": 72223.9637340248,
   "name": "District_pt@China#3",
   "defaultVisibility": true,
   "id": 21,
   "minScale": 577791.709872198,
   "supportsDynamicLegends": true,
   "type": "Feature Layer",
   "parentLayerId": 0,
   "geometryType": "esriGeometryPoint"
  },
  {
   "subLayerIds": [],
   "maxScale": 72223.9637340248,
   "name": "District_pt@China#4",
   "defaultVisibility": true,
   "id": 22,
   "minScale": 577791.7098721981,
   "supportsDynamicLegends": true,
   "type": "Feature Layer",
   "parentLayerId": 0,
   "geometryType": "esriGeometryPoint"
  },
  {
   "subLayerIds": [],
   "maxScale": 72223.9637340248,
   "name": "District_pt@China#5",
   "defaultVisibility": true,
   "id": 23,
   "minScale": 577791.709872198,
   "supportsDynamicLegends": true,
   "type": "Feature Layer",
   "parentLayerId": 0,
   "geometryType": "esriGeometryPoint"
  },
  {
   "subLayerIds": [],
   "maxScale": 72223.9637340248,
   "name": "District_pt@China#6",
   "defaultVisibility": true,
   "id": 24,
   "minScale": 577791.709872198,
   "supportsDynamicLegends": true,
   "type": "Feature Layer",
   "parentLayerId": 0,
   "geometryType": "esriGeometryPoint"
  },
  {
   "subLayerIds": [],
   "maxScale": 72223.9637340248,
   "name": "District_pt@China#7",
   "defaultVisibility": true,
   "id": 25,
   "minScale": 577791.709872198,
   "supportsDynamicLegends": true,
   "type": "Feature Layer",
   "parentLayerId": 0,
   "geometryType": "esriGeometryPoint"
  },
  {
   "subLayerIds": [],
   "maxScale": 577791.709872198,
   "name": "District_pt@China#8",
   "defaultVisibility": true,
   "id": 26,
   "minScale": 2311166.83948879,
   "supportsDynamicLegends": true,
   "type": "Feature Layer",
   "parentLayerId": 0,
   "geometryType": "esriGeometryPoint"
  },
  {
   "subLayerIds": [],
   "maxScale": 144447.92746805,
   "name": "China_PreCenCity_DanDong@China#1",
   "defaultVisibility": true,
   "id": 27,
   "minScale": 1155583.4197444,
   "supportsDynamicLegends": true,
   "type": "Feature Layer",
   "parentLayerId": 0,
   "geometryType": "esriGeometryPoint"
  },
  {
   "subLayerIds": [],
   "maxScale": 144447.92746805,
   "name": "China_PreCenCity_pt@China#3",
   "defaultVisibility": true,
   "id": 28,
   "minScale": 1155583.4197443968,
   "supportsDynamicLegends": true,
   "type": "Feature Layer",
   "parentLayerId": 0,
   "geometryType": "esriGeometryPoint"
  },
  {
   "subLayerIds": [],
   "maxScale": 144447.92746805,
   "name": "China_preCenCity_pt_A@China#1",
   "defaultVisibility": true,
   "id": 29,
   "minScale": 1155583.4197444,
   "supportsDynamicLegends": true,
   "type": "Feature Layer",
   "parentLayerId": 0,
   "geometryType": "esriGeometryPoint"
  },
  {
   "subLayerIds": [],
   "maxScale": 1155583.4197444,
   "name": "China_PreCenCity_xinanmen@China#2",
   "defaultVisibility": true,
   "id": 30,
   "minScale": 4622333.67897759,
   "supportsDynamicLegends": true,
   "type": "Feature Layer",
   "parentLayerId": 0,
   "geometryType": "esriGeometryPoint"
  },
  {
   "subLayerIds": [],
   "maxScale": 1155583.4197444,
   "name": "China_preCenCity_pt_A@China#2",
   "defaultVisibility": true,
   "id": 31,
   "minScale": 4622333.67897759,
   "supportsDynamicLegends": true,
   "type": "Feature Layer",
   "parentLayerId": 0,
   "geometryType": "esriGeometryPoint"
  },
  {
   "subLayerIds": [],
   "maxScale": 1155583.4197444,
   "name": "China_PreCenCity_pt@China#1",
   "defaultVisibility": true,
   "id": 32,
   "minScale": 4622333.67897759,
   "supportsDynamicLegends": true,
   "type": "Feature Layer",
   "parentLayerId": 0,
   "geometryType": "esriGeometryPoint"
  },
  {
   "subLayerIds": [],
   "maxScale": 0,
   "name": "China_Island_pt_1@China#1",
   "defaultVisibility": true,
   "id": 33,
   "minScale": 1.84893347159103E7,
   "supportsDynamicLegends": true,
   "type": "Feature Layer",
   "parentLayerId": 0,
   "geometryType": "esriGeometryPoint"
  },
  {
   "subLayerIds": [],
   "maxScale": 577791.709872198,
   "name": "Chinasea@China#1",
   "defaultVisibility": true,
   "id": 34,
   "minScale": 1.84893347159103E7,
   "supportsDynamicLegends": true,
   "type": "Feature Layer",
   "parentLayerId": 0,
   "geometryType": "esriGeometryPoint"
  },
  {
   "subLayerIds": [],
   "maxScale": 144447.92746805,
   "name": "China_ProCenCity_pt@China#5",
   "defaultVisibility": true,
   "id": 35,
   "minScale": 9244667.357955173,
   "supportsDynamicLegends": true,
   "type": "Feature Layer",
   "parentLayerId": 0,
   "geometryType": "esriGeometryPoint"
  },
  {
   "subLayerIds": [],
   "maxScale": 9244667.357955175,
   "name": "China_ProCenCity_pt@China#1",
   "defaultVisibility": true,
   "id": 36,
   "minScale": 1.84893347159103E7,
   "supportsDynamicLegends": true,
   "type": "Feature Layer",
   "parentLayerId": 0,
   "geometryType": "esriGeometryPoint"
  },
  {
   "subLayerIds": [],
   "maxScale": 144447.92746805,
   "name": "China_Capital_pt@China#2",
   "defaultVisibility": true,
   "id": 37,
   "minScale": 1.84893347159103E7,
   "supportsDynamicLegends": true,
   "type": "Feature Layer",
   "parentLayerId": 0,
   "geometryType": "esriGeometryPoint"
  },
  {
   "subLayerIds": [],
   "maxScale": 1.84893347159103E7,
   "name": "China_Capital_pt@China#1",
   "defaultVisibility": true,
   "id": 38,
   "minScale": 7.39573388636414E7,
   "supportsDynamicLegends": true,
   "type": "Feature Layer",
   "parentLayerId": 0,
   "geometryType": "esriGeometryPoint"
  },
  {
   "subLayerIds": [],
   "maxScale": 3.69786694318207E7,
   "name": "China_Nation_txt@China#1",
   "defaultVisibility": true,
   "id": 39,
   "minScale": 7.39573388636414E7,
   "supportsDynamicLegends": true,
   "type": "Feature Layer",
   "parentLayerId": 0,
   "geometryType": "esriGeometryPoint"
  },
  {
   "subLayerIds": [],
   "maxScale": 7.39573388636414E7,
   "name": "China_Nation_txt_1@China#1",
   "defaultVisibility": true,
   "id": 40,
   "minScale": 1.479146777272828E8,
   "supportsDynamicLegends": true,
   "type": "Feature Layer",
   "parentLayerId": 0,
   "geometryType": "esriGeometryPoint"
  },
  {
   "subLayerIds": [],
   "maxScale": 0,
   "name": "World_Ocean_txt@China",
   "defaultVisibility": true,
   "id": 41,
   "minScale": 2.958293554545656E8,
   "supportsDynamicLegends": false,
   "type": "Feature Layer",
   "parentLayerId": 0,
   "geometryType": null
  },
  {
   "subLayerIds": [],
   "maxScale": 3.69786694318207E7,
   "name": "World_Continent_txt@China",
   "defaultVisibility": true,
   "id": 42,
   "minScale": 2.958293554545656E8,
   "supportsDynamicLegends": false,
   "type": "Feature Layer",
   "parentLayerId": 0,
   "geometryType": null
  },
  {
   "subLayerIds": [],
   "maxScale": 0,
   "name": "China_Rural_pt@China",
   "defaultVisibility": false,
   "id": 43,
   "minScale": 0,
   "supportsDynamicLegends": true,
   "type": "Feature Layer",
   "parentLayerId": 0,
   "geometryType": "esriGeometryPoint"
  },
  {
   "subLayerIds": [],
   "maxScale": 0,
   "name": "District_pt@China",
   "defaultVisibility": false,
   "id": 44,
   "minScale": 0,
   "supportsDynamicLegends": true,
   "type": "Feature Layer",
   "parentLayerId": 0,
   "geometryType": "esriGeometryPoint"
  },
  {
   "subLayerIds": [],
   "maxScale": 577791.709872198,
   "name": "District_A_pt@China",
   "defaultVisibility": true,
   "id": 45,
   "minScale": 2311166.83948879,
   "supportsDynamicLegends": true,
   "type": "Feature Layer",
   "parentLayerId": 0,
   "geometryType": "esriGeometryPoint"
  },
  {
   "subLayerIds": [],
   "maxScale": 577791.709872198,
   "name": "China_PreCenCity_pt@China",
   "defaultVisibility": true,
   "id": 46,
   "minScale": 4622333.67897759,
   "supportsDynamicLegends": true,
   "type": "Feature Layer",
   "parentLayerId": 0,
   "geometryType": "esriGeometryPoint"
  },
  {
   "subLayerIds": [],
   "maxScale": 577791.709872198,
   "name": "China_preCenCity_pt_A@China",
   "defaultVisibility": true,
   "id": 47,
   "minScale": 4622333.67897759,
   "supportsDynamicLegends": true,
   "type": "Feature Layer",
   "parentLayerId": 0,
   "geometryType": "esriGeometryPoint"
  },
  {
   "subLayerIds": [],
   "maxScale": 4622333.678977587,
   "name": "China_ProCenCity_pt@China",
   "defaultVisibility": true,
   "id": 48,
   "minScale": 1.84893347159103E7,
   "supportsDynamicLegends": true,
   "type": "Feature Layer",
   "parentLayerId": 0,
   "geometryType": "esriGeometryPoint"
  },
  {
   "subLayerIds": [],
   "maxScale": 577791.709872198,
   "name": "China_ProCenCity_pt@China#3",
   "defaultVisibility": true,
   "id": 49,
   "minScale": 4622333.678977587,
   "supportsDynamicLegends": true,
   "type": "Feature Layer",
   "parentLayerId": 0,
   "geometryType": "esriGeometryPoint"
  },
  {
   "subLayerIds": [],
   "maxScale": 577791.709872198,
   "name": "China_Capital_pt@China",
   "defaultVisibility": true,
   "id": 50,
   "minScale": 7.39573388636414E7,
   "supportsDynamicLegends": true,
   "type": "Feature Layer",
   "parentLayerId": 0,
   "geometryType": "esriGeometryPoint"
  },
  {
   "subLayerIds": [],
   "maxScale": 0,
   "name": "Airport_pt@China#1",
   "defaultVisibility": true,
   "id": 51,
   "minScale": 577791.7098721984,
   "supportsDynamicLegends": true,
   "type": "Feature Layer",
   "parentLayerId": 0,
   "geometryType": "esriGeometryPoint"
  },
  {
   "subLayerIds": [],
   "maxScale": 1155583.4197444,
   "name": "China_Boundary_B@China#1",
   "defaultVisibility": true,
   "id": 52,
   "minScale": 2311166.83948879,
   "supportsDynamicLegends": true,
   "type": "Feature Layer",
   "parentLayerId": 0,
   "geometryType": "esriGeometryPolyline"
  },
  {
   "subLayerIds": [],
   "maxScale": 2311166.83948879,
   "name": "China_Boundary_C@China#1",
   "defaultVisibility": true,
   "id": 53,
   "minScale": 4622333.67897759,
   "supportsDynamicLegends": true,
   "type": "Feature Layer",
   "parentLayerId": 0,
   "geometryType": "esriGeometryPolyline"
  },
  {
   "subLayerIds": [],
   "maxScale": 4622333.67897759,
   "name": "China_Boundary_ln@China#1",
   "defaultVisibility": true,
   "id": 54,
   "minScale": 3.69786694318207E7,
   "supportsDynamicLegends": true,
   "type": "Feature Layer",
   "parentLayerId": 0,
   "geometryType": "esriGeometryPolyline"
  },
  {
   "subLayerIds": [],
   "maxScale": 3.69786694318207E7,
   "name": "China_Boundary_A@China#1",
   "defaultVisibility": true,
   "id": 55,
   "minScale": 0,
   "supportsDynamicLegends": true,
   "type": "Feature Layer",
   "parentLayerId": 0,
   "geometryType": "esriGeometryPolyline"
  },
  {
   "subLayerIds": [],
   "maxScale": 2311166.83948879,
   "name": "Main_Road_L@China",
   "defaultVisibility": true,
   "id": 56,
   "minScale": 1.8489334715910304E7,
   "supportsDynamicLegends": true,
   "type": "Feature Layer",
   "parentLayerId": 0,
   "geometryType": "esriGeometryPolyline"
  },
  {
   "subLayerIds": [],
   "maxScale": 144447.92746805,
   "name": "Main_Road_L@China#1#1",
   "defaultVisibility": true,
   "id": 57,
   "minScale": 2311166.83948879,
   "supportsDynamicLegends": true,
   "type": "Feature Layer",
   "parentLayerId": 0,
   "geometryType": "esriGeometryPolyline"
  },
  {
   "subLayerIds": [],
   "maxScale": 0,
   "name": "Main_Road_L@China#1",
   "defaultVisibility": true,
   "id": 58,
   "minScale": 144447.92746805,
   "supportsDynamicLegends": true,
   "type": "Feature Layer",
   "parentLayerId": 0,
   "geometryType": "esriGeometryPolyline"
  },
  {
   "subLayerIds": [],
   "maxScale": 2311166.83948879,
   "name": "Arterial_Road_ln@China",
   "defaultVisibility": true,
   "id": 59,
   "minScale": 4622333.67897759,
   "supportsDynamicLegends": true,
   "type": "Feature Layer",
   "parentLayerId": 0,
   "geometryType": "esriGeometryPolyline"
  },
  {
   "subLayerIds": [],
   "maxScale": 144447.92746805,
   "name": "Arterial_Road_ln@China#1#1",
   "defaultVisibility": true,
   "id": 60,
   "minScale": 2311166.83948879,
   "supportsDynamicLegends": true,
   "type": "Feature Layer",
   "parentLayerId": 0,
   "geometryType": "esriGeometryPolyline"
  },
  {
   "subLayerIds": [],
   "maxScale": 0,
   "name": "Arterial_Road_ln@China#1",
   "defaultVisibility": true,
   "id": 61,
   "minScale": 144447.92746805,
   "supportsDynamicLegends": true,
   "type": "Feature Layer",
   "parentLayerId": 0,
   "geometryType": "esriGeometryPolyline"
  },
  {
   "subLayerIds": [],
   "maxScale": 288895.854936099,
   "name": "Provincial_Road_ln@China#1",
   "defaultVisibility": true,
   "id": 62,
   "minScale": 577791.709872198,
   "supportsDynamicLegends": true,
   "type": "Feature Layer",
   "parentLayerId": 0,
   "geometryType": "esriGeometryPolyline"
  },
  {
   "subLayerIds": [],
   "maxScale": 144447.92746805,
   "name": "Provincial_Road_ln@China#2",
   "defaultVisibility": true,
   "id": 63,
   "minScale": 288895.854936099,
   "supportsDynamicLegends": true,
   "type": "Feature Layer",
   "parentLayerId": 0,
   "geometryType": "esriGeometryPolyline"
  },
  {
   "subLayerIds": [],
   "maxScale": 0,
   "name": "Provincial_Road_ln@China",
   "defaultVisibility": true,
   "id": 64,
   "minScale": 144447.92746805,
   "supportsDynamicLegends": true,
   "type": "Feature Layer",
   "parentLayerId": 0,
   "geometryType": "esriGeometryPolyline"
  },
  {
   "subLayerIds": [],
   "maxScale": 0,
   "name": "County_Road_ln@China",
   "defaultVisibility": true,
   "id": 65,
   "minScale": 144447.92746805,
   "supportsDynamicLegends": true,
   "type": "Feature Layer",
   "parentLayerId": 0,
   "geometryType": "esriGeometryPolyline"
  },
  {
   "subLayerIds": [],
   "maxScale": 0,
   "name": "Main_Railway_L@China",
   "defaultVisibility": true,
   "id": 66,
   "minScale": 1155583.4197444,
   "supportsDynamicLegends": true,
   "type": "Feature Layer",
   "parentLayerId": 0,
   "geometryType": "esriGeometryPolyline"
  },
  {
   "subLayerIds": [],
   "maxScale": 0,
   "name": "China_Xianggang_ln@China",
   "defaultVisibility": true,
   "id": 67,
   "minScale": 1.84893347159103E7,
   "supportsDynamicLegends": true,
   "type": "Feature Layer",
   "parentLayerId": 0,
   "geometryType": "esriGeometryPolyline"
  },
  {
   "subLayerIds": [],
   "maxScale": 0,
   "name": "China_Province_ln@China#1",
   "defaultVisibility": true,
   "id": 68,
   "minScale": 1.84893347159103E7,
   "supportsDynamicLegends": true,
   "type": "Feature Layer",
   "parentLayerId": 0,
   "geometryType": "esriGeometryPolyline"
  },
  {
   "subLayerIds": [],
   "maxScale": 1.84893347159103E7,
   "name": "China_Province_ln@China",
   "defaultVisibility": true,
   "id": 69,
   "minScale": 3.69786694318207E7,
   "supportsDynamicLegends": true,
   "type": "Feature Layer",
   "parentLayerId": 0,
   "geometryType": "esriGeometryPolyline"
  },
  {
   "subLayerIds": [],
   "maxScale": 0,
   "name": "River@China",
   "defaultVisibility": true,
   "id": 70,
   "minScale": 1.479146777272828E8,
   "supportsDynamicLegends": true,
   "type": "Feature Layer",
   "parentLayerId": 0,
   "geometryType": "esriGeometryPolygon"
  },
  {
   "subLayerIds": [],
   "maxScale": 0,
   "name": "Main_River_ln@China",
   "defaultVisibility": true,
   "id": 71,
