{
 "fullExtent": {
  "ymin": -2.003750834278914E7,
  "xmin": -2.0037508342789248E7,
  "ymax": 2.0037508342789087E7,
  "xmax": 2.0037508342789244E7,
  "spatialReference": {
   "latestWKID": 3857,
   "wkid": 3857
  }
 },
 "capabilities": "Map,Data,Query",
 "supportsDynamicLayers": false,
 "maxScale": 0,
 "singleFusedMapCache": true,
 "tileInfo": {
  "lods": [
   {
    "level": 0,
    "scale": 5.91658710909131E8,
    "resolution": 156543.0339280409
   },
   {
    "level": 1,
    "scale": 2.95829355454566E8,
    "resolution": 78271.51696402059
   },
   {
    "level": 2,
    "scale": 1.47914677727283E8,
    "resolution": 39135.75848201029
   },
   {
    "level": 3,
    "scale": 7.39573388636414E7,
    "resolution": 19567.879241005117
   },
   {
    "level": 4,
    "scale": 3.69786694318207E7,
    "resolution": 9783.939620502559
   },
   {
    "level": 5,
    "scale": 1.84893347159103E7,
    "resolution": 4891.969810251267
   },
   {
    "level": 6,
    "scale": 9244667.35795517,
    "resolution": 2445.9849051256388
   },
   {
    "level": 7,
    "scale": 4622333.67897759,
    "resolution": 1222.9924525628205
   },
   {
    "level": 8,
    "scale": 2311166.83948879,
    "resolution": 611.4962262814089
   },
   {
    "level": 9,
    "scale": 1155583.4197444,
    "resolution": 305.7481131407058
   },
   {
    "level": 10,
    "scale": 577791.709872198,
    "resolution": 152.87405657035237
   },
   {
    "level": 11,
    "scale": 288895.854936099,
    "resolution": 76.43702828517618
   },
   {
    "level": 12,
    "scale": 144447.92746805,
    "resolution": 38.218514142588226
   }
  ],
  "origin": {
   "x": -2.0037508342789248E7,
   "y": 2.0037508342789087E7,
   "m": null
  },
  "format": null,
  "rows": 256,
  "dpi": 96,
  "spatialReference": {
   "latestWKID": 3857,
   "wkid": 3857
  },
  "cols": 256
 },
 "description": "",
 "units": "esriMeters",
 "currentVersion": "10.21",
 "supportedImageFormatTypes": "PNG,JPG",
 "supportedQueryFormats": null,
 "initialExtent": {
  "ymin": 2772103.486297921,
  "xmin": 1.0219363152114552E7,
  "ymax": 5276792.029146576,
  "xmax": 1.2724051694963206E7,
  "spatialReference": {
   "latestWKID": 3857,
   "wkid": 3857
  }
 },
 "layers": [
  {
   "subLayerIds": [
    1,
    2,
    3,
    4,
    5,
    6,
    7,
    8,
    9,
    10,
    11,
    12,
    13,
    14,
    15,
    16,
    17,
    18,
    19,
    20,
    21,
    22,
    23,
    24,
    25,
    26,
    27,
    28,
    29,
    30,
    31,
    32,
    33,
    34,
    35,
    36,
    37,
    38,
    39,
    40,
    41,
    42,
    43,
    44,
    45,
    46,
    47,
    48,
    49,
    50,
    51,
    52,
    53
   ],
   "maxScale": 0,
   "name": "ChinaDark",
   "defaultVisibility": true,
   "id": 0,
   "minScale": 0,
   "supportsDynamicLegends": false,
   "type": "Feature Layer",
   "parentLayerId": -1,
   "geometryType": null
  },
  {
   "subLayerIds": [],
   "maxScale": 0,
   "name": "China_Island_pt_1@China#1",
   "defaultVisibility": true,
   "id": 1,
   "minScale": 1.84893347159103E7,
   "supportsDynamicLegends": true,
   "type": "Feature Layer",
   "parentLayerId": 0,
   "geometryType": "esriGeometryPoint"
  },
  {
   "subLayerIds": [],
   "maxScale": 72223.9637340248,
   "name": "District_pt@China",
   "defaultVisibility": true,
   "id": 2,
   "minScale": 577791.709872198,
   "supportsDynamicLegends": true,
   "type": "Feature Layer",
   "parentLayerId": 0,
   "geometryType": "esriGeometryPoint"
  },
  {
   "subLayerIds": [],
   "maxScale": 72223.9637340248,
   "name": "District_pt@China#1",
   "defaultVisibility": true,
   "id": 3,
   "minScale": 577791.709872198,
   "supportsDynamicLegends": true,
   "type": "Feature Layer",
   "parentLayerId": 0,
   "geometryType": "esriGeometryPoint"
  },
  {
   "subLayerIds": [],
   "maxScale": 72223.9637340248,
   "name": "District_pt@China#2",
   "defaultVisibility": true,
   "id": 4,
   "minScale": 577791.709872198,
   "supportsDynamicLegends": true,
   "type": "Feature Layer",
   "parentLayerId": 0,
   "geometryType": "esriGeometryPoint"
  },
  {
   "subLayerIds": [],
   "maxScale": 72223.9637340248,
   "name": "District_pt@China#3",
   "defaultVisibility": true,
   "id": 5,
   "minScale": 577791.7098721981,
   "supportsDynamicLegends": true,
   "type": "Feature Layer",
   "parentLayerId": 0,
   "geometryType": "esriGeometryPoint"
  },
  {
   "subLayerIds": [],
   "maxScale": 72223.9637340248,
   "name": "District_pt@China#4",
   "defaultVisibility": true,
   "id": 6,
   "minScale": 577791.709872198,
   "supportsDynamicLegends": true,
   "type": "Feature Layer",
   "parentLayerId": 0,
   "geometryType": "esriGeometryPoint"
  },
  {
   "subLayerIds": [],
   "maxScale": 72223.9637340248,
   "name": "District_pt@China#5",
   "defaultVisibility": true,
   "id": 7,
   "minScale": 577791.709872198,
   "supportsDynamicLegends": true,
   "type": "Feature Layer",
   "parentLayerId": 0,
   "geometryType": "esriGeometryPoint"
  },
  {
   "subLayerIds": [],
   "maxScale": 72223.9637340248,
   "name": "District_pt@China#6",
   "defaultVisibility": true,
   "id": 8,
   "minScale": 577791.709872198,
   "supportsDynamicLegends": true,
   "type": "Feature Layer",
   "parentLayerId": 0,
   "geometryType": "esriGeometryPoint"
  },
  {
   "subLayerIds": [],
   "maxScale": 577791.709872198,
   "name": "District_pt@China#7",
   "defaultVisibility": true,
   "id": 9,
   "minScale": 2311166.8394887852,
   "supportsDynamicLegends": true,
   "type": "Feature Layer",
   "parentLayerId": 0,
   "geometryType": "esriGeometryPoint"
  },
  {
   "subLayerIds": [],
   "maxScale": 1155583.4197444,
   "name": "China_PreCenCity_pt@China#1",
   "defaultVisibility": true,
   "id": 10,
   "minScale": 4622333.67897759,
   "supportsDynamicLegends": true,
   "type": "Feature Layer",
   "parentLayerId": 0,
   "geometryType": "esriGeometryPoint"
  },
  {
   "subLayerIds": [],
   "maxScale": 1155583.4197444,
   "name": "China_PreCenCity_xinanmen@China#2",
   "defaultVisibility": true,
   "id": 11,
   "minScale": 4622333.67897759,
   "supportsDynamicLegends": true,
   "type": "Feature Layer",
   "parentLayerId": 0,
   "geometryType": "esriGeometryPoint"
  },
  {
   "subLayerIds": [],
   "maxScale": 1155583.4197444,
   "name": "China_preCenCity_pt_A@China#2",
   "defaultVisibility": true,
   "id": 12,
   "minScale": 4622333.67897759,
   "supportsDynamicLegends": true,
   "type": "Feature Layer",
   "parentLayerId": 0,
   "geometryType": "esriGeometryPoint"
  },
  {
   "subLayerIds": [],
   "maxScale": 144447.92746805,
   "name": "China_PreCenCity_pt@China#3",
   "defaultVisibility": true,
   "id": 13,
   "minScale": 1155583.4197443968,
   "supportsDynamicLegends": true,
   "type": "Feature Layer",
   "parentLayerId": 0,
   "geometryType": "esriGeometryPoint"
  },
  {
   "subLayerIds": [],
   "maxScale": 144447.92746805,
   "name": "China_PreCenCity_DanDong@China#1",
   "defaultVisibility": true,
   "id": 14,
   "minScale": 1155583.4197444,
   "supportsDynamicLegends": true,
   "type": "Feature Layer",
   "parentLayerId": 0,
   "geometryType": "esriGeometryPoint"
  },
  {
   "subLayerIds": [],
   "maxScale": 144447.92746805,
   "name": "China_preCenCity_pt_A@China#1",
   "defaultVisibility": true,
   "id": 15,
   "minScale": 1155583.4197444,
   "supportsDynamicLegends": true,
   "type": "Feature Layer",
   "parentLayerId": 0,
   "geometryType": "esriGeometryPoint"
  },
  {
   "subLayerIds": [],
   "maxScale": 9244667.357955175,
   "name": "China_ProCenCity_pt@China#1",
   "defaultVisibility": true,
   "id": 16,
   "minScale": 3.69786694318207E7,
   "supportsDynamicLegends": true,
   "type": "Feature Layer",
   "parentLayerId": 0,
   "geometryType": "esriGeometryPoint"
  },
  {
   "subLayerIds": [],
   "maxScale": 144447.92746805,
   "name": "China_ProCenCity_pt@China#5",
   "defaultVisibility": true,
   "id": 17,
   "minScale": 9244667.357955173,
   "supportsDynamicLegends": true,
   "type": "Feature Layer",
   "parentLayerId": 0,
   "geometryType": "esriGeometryPoint"
  },
  {
   "subLayerIds": [],
   "maxScale": 1.84893347159103E7,
   "name": "China_Capital_pt@China#1",
   "defaultVisibility": true,
   "id": 18,
   "minScale": 7.39573388636414E7,
   "supportsDynamicLegends": true,
   "type": "Feature Layer",
   "parentLayerId": 0,
   "geometryType": "esriGeometryPoint"
  },
  {
   "subLayerIds": [],
   "maxScale": 144447.92746805,
   "name": "China_Capital_pt@China#2",
   "defaultVisibility": true,
   "id": 19,
   "minScale": 1.84893347159103E7,
   "supportsDynamicLegends": true,
   "type": "Feature Layer",
   "parentLayerId": 0,
   "geometryType": "esriGeometryPoint"
  },
  {
   "subLayerIds": [],
   "maxScale": 7.39573388636414E7,
   "name": "China_Nation_txt_1@China#1",
   "defaultVisibility": true,
   "id": 20,
   "minScale": 1.479146777272828E8,
   "supportsDynamicLegends": true,
   "type": "Feature Layer",
   "parentLayerId": 0,
   "geometryType": "esriGeometryPoint"
  },
  {
   "subLayerIds": [],
   "maxScale": 3.69786694318207E7,
   "name": "China_Nation_txt@China#1",
   "defaultVisibility": true,
   "id": 21,
   "minScale": 7.39573388636414E7,
   "supportsDynamicLegends": true,
   "type": "Feature Layer",
   "parentLayerId": 0,
   "geometryType": "esriGeometryPoint"
  },
  {
   "subLayerIds": [],
   "maxScale": 577791.709872198,
   "name": "China_PreCenCity_pt@China",
   "defaultVisibility": true,
   "id": 22,
   "minScale": 4622333.67897759,
   "supportsDynamicLegends": true,
   "type": "Feature Layer",
   "parentLayerId": 0,
   "geometryType": "esriGeometryPoint"
  },
  {
   "subLayerIds": [],
   "maxScale": 577791.709872198,
   "name": "China_preCenCity_pt_A@China",
   "defaultVisibility": true,
   "id": 23,
   "minScale": 4622333.67897759,
   "supportsDynamicLegends": true,
   "type": "Feature Layer",
   "parentLayerId": 0,
   "geometryType": "esriGeometryPoint"
  },
  {
   "subLayerIds": [],
   "maxScale": 4622333.678977587,
   "name": "China_ProCenCity_pt@China",
   "defaultVisibility": true,
   "id": 24,
   "minScale": 3.69786694318207E7,
   "supportsDynamicLegends": true,
   "type": "Feature Layer",
   "parentLayerId": 0,
   "geometryType": "esriGeometryPoint"
  },
  {
   "subLayerIds": [],
   "maxScale": 577791.709872198,
   "name": "China_ProCenCity_pt@China#3",
   "defaultVisibility": true,
   "id": 25,
   "minScale": 4622333.678977587,
   "supportsDynamicLegends": true,
   "type": "Feature Layer",
   "parentLayerId": 0,
   "geometryType": "esriGeometryPoint"
  },
  {
   "subLayerIds": [],
   "maxScale": 577791.709872198,
   "name": "China_Capital_pt@China",
   "defaultVisibility": true,
   "id": 26,
   "minScale": 7.39573388636414E7,
   "supportsDynamicLegends": true,
   "type": "Feature Layer",
   "parentLayerId": 0,
   "geometryType": "esriGeometryPoint"
  },
  {
   "subLayerIds": [],
   "maxScale": 3.69786694318207E7,
   "name": "China_Boundary_A@China#1",
   "defaultVisibility": true,
   "id": 27,
   "minScale": 0,
   "supportsDynamicLegends": true,
   "type": "Feature Layer",
   "parentLayerId": 0,
   "geometryType": "esriGeometryPolyline"
  },
  {
   "subLayerIds": [],
   "maxScale": 4622333.67897759,
   "name": "China_Boundary_ln@China#1",
   "defaultVisibility": true,
   "id": 28,
   "minScale": 3.69786694318207E7,
   "supportsDynamicLegends": true,
   "type": "Feature Layer",
   "parentLayerId": 0,
   "geometryType": "esriGeometryPolyline"
  },
  {
   "subLayerIds": [],
   "maxScale": 1155583.4197444,
   "name": "China_Boundary_C@China#1",
   "defaultVisibility": true,
   "id": 29,
   "minScale": 4622333.67897759,
   "supportsDynamicLegends": true,
   "type": "Feature Layer",
   "parentLayerId": 0,
   "geometryType": "esriGeometryPolyline"
  },
  {
   "subLayerIds": [],
   "maxScale": 2311166.83948879,
   "name": "Main_Road_L@China",
   "defaultVisibility": true,
   "id": 30,
   "minScale": 1.8489334715910304E7,
   "supportsDynamicLegends": true,
   "type": "Feature Layer",
   "parentLayerId": 0,
   "geometryType": "esriGeometryPolyline"
  },
  {
   "subLayerIds": [],
   "maxScale": 144447.92746805,
   "name": "Main_Road_L@China#1#1",
   "defaultVisibility": true,
   "id": 31,
   "minScale": 2311166.83948879,
   "supportsDynamicLegends": true,
   "type": "Feature Layer",
   "parentLayerId": 0,
   "geometryType": "esriGeometryPolyline"
  },
  {
   "subLayerIds": [],
   "maxScale": 0,
   "name": "Main_Road_L@China#1",
   "defaultVisibility": true,
   "id": 32,
   "minScale": 144447.92746805,
   "supportsDynamicLegends": true,
   "type": "Feature Layer",
   "parentLayerId": 0,
   "geometryType": "esriGeometryPolyline"
  },
  {
   "subLayerIds": [],
   "maxScale": 2311166.83948879,
   "name": "Arterial_Road_ln@China",
   "defaultVisibility": true,
   "id": 33,
   "minScale": 4622333.67897759,
   "supportsDynamicLegends": true,
   "type": "Feature Layer",
   "parentLayerId": 0,
   "geometryType": "esriGeometryPolyline"
  },
  {
   "subLayerIds": [],
   "maxScale": 144447.92746805,
   "name": "Arterial_Road_ln@China#1#1",
   "defaultVisibility": true,
   "id": 34,
   "minScale": 2311166.83948879,
   "supportsDynamicLegends": true,
   "type": "Feature Layer",
   "parentLayerId": 0,
   "geometryType": "esriGeometryPolyline"
  },
  {
   "subLayerIds": [],
   "maxScale": 0,
   "name": "Arterial_Road_ln@China#1",
   "defaultVisibility": true,
   "id": 35,
   "minScale": 144447.92746805,
   "supportsDynamicLegends": true,
   "type": "Feature Layer",
   "parentLayerId": 0,
   "geometryType": "esriGeometryPolyline"
  },
  {
   "subLayerIds": [],
   "maxScale": 288895.854936099,
   "name": "Provincial_Road_ln@China#1",
   "defaultVisibility": true,
   "id": 36,
   "minScale": 577791.709872198,
   "supportsDynamicLegends": true,
   "type": "Feature Layer",
   "parentLayerId": 0,
   "geometryType": "esriGeometryPolyline"
  },
  {
   "subLayerIds": [],
   "maxScale": 144447.92746805,
   "name": "Provincial_Road_ln@China#2",
   "defaultVisibility": true,
   "id": 37,
   "minScale": 288895.854936099,
   "supportsDynamicLegends": true,
   "type": "Feature Layer",
   "parentLayerId": 0,
   "geometryType": "esriGeometryPolyline"
  },
  {
   "subLayerIds": [],
   "maxScale": 0,
   "name": "Provincial_Road_ln@China",
   "defaultVisibility": true,
   "id": 38,
   "minScale": 144447.92746805,
   "supportsDynamicLegends": true,
   "type": "Feature Layer",
   "parentLayerId": 0,
   "geometryType": "esriGeometryPolyline"
  },
  {
   "subLayerIds": [],
   "maxScale": 0,
   "name": "County_Road_ln@China",
   "defaultVisibility": true,
   "id": 39,
   "minScale": 144447.92746805,
   "supportsDynamicLegends": true,
   "type": "Feature Layer",
   "parentLayerId": 0,
   "geometryType": "esriGeometryPolyline"
  },
  {
   "subLayerIds": [],
   "maxScale": 0,
   "name": "China_Xianggang_ln@China",
   "defaultVisibility": true,
   "id": 40,
   "minScale": 1.84893347159103E7,
   "supportsDynamicLegends": true,
   "type": "Feature Layer",
   "parentLayerId": 0,
   "geometryType": "esriGeometryPolyline"
  },
  {
   "subLayerIds": [],
   "maxScale": 1.84893347159103E7,
   "name": "China_Province_ln@China",
   "defaultVisibility": true,
   "id": 41,
   "minScale": 3.69786694318207E7,
   "supportsDynamicLegends": true,
   "type": "Feature Layer",
   "parentLayerId": 0,
   "geometryType": "esriGeometryPolyline"
  },
  {
   "subLayerIds": [],
   "maxScale": 0,
   "name": "China_Province_ln@China#2",
   "defaultVisibility": true,
   "id": 42,
   "minScale": 1.84893347159103E7,
   "supportsDynamicLegends": true,
   "type": "Feature Layer",
   "parentLayerId": 0,
   "geometryType": "esriGeometryPolyline"
  },
  {
   "subLayerIds": [],
   "maxScale": 0,
   "name": "Main_River_ln@China",
   "defaultVisibility": true,
   "id": 43,
   "minScale": 1.47914677727283E8,
   "supportsDynamicLegends": true,
   "type": "Feature Layer",
   "parentLayerId": 0,
   "geometryType": "esriGeometryPolyline"
  },
  {
   "subLayerIds": [],
   "maxScale": 0,
   "name": "River@China",
   "defaultVisibility": true,
   "id": 44,
   "minScale": 1.479146777272828E8,
   "supportsDynamicLegends": true,
   "type": "Feature Layer",
   "parentLayerId": 0,
   "geometryType": "esriGeometryPolygon"
  },
  {
   "subLayerIds": [],
   "maxScale": 0,
   "name": "China_MainHydside_pg@China",
   "defaultVisibility": true,
   "id": 45,
   "minScale": 1.84893347159103E7,
   "supportsDynamicLegends": true,
   "type": "Feature Layer",
   "parentLayerId": 0,
   "geometryType": "esriGeometryPolygon"
  },
  {
   "subLayerIds": [],
   "maxScale": 0,
   "name": "China_SecHydside_pl@China",
   "defaultVisibility": true,
   "id": 46,
   "minScale": 9244667.35795517,
   "supportsDynamicLegends": true,
   "type": "Feature Layer",
   "parentLayerId": 0,
   "geometryType": "esriGeometryPolygon"
  },
  {
   "subLayerIds": [],
   "maxScale": 0,
   "name": "Xingkaihu@China",
   "defaultVisibility": true,
   "id": 47,
   "minScale": 1.84893347159103E7,
   "supportsDynamicLegends": true,
   "type": "Feature Layer",
   "parentLayerId": 0,
   "geometryType": "esriGeometryPolygon"
  },
  {
   "subLayerIds": [],
   "maxScale": 9244667.35795517,
   "name": "China_island_plC@China",
   "defaultVisibility": true,
   "id": 48,
   "minScale": 0,
   "supportsDynamicLegends": true,
   "type": "Feature Layer",
   "parentLayerId": 0,
   "geometryType": "esriGeometryPolygon"
  },
  {
   "subLayerIds": [],
   "maxScale": 0,
   "name": "China_Island@China",
   "defaultVisibility": true,
   "id": 49,
   "minScale": 0,
   "supportsDynamicLegends": true,
   "type": "Feature Layer",
   "parentLayerId": 0,
   "geometryType": "esriGeometryPolygon"
  },
  {
   "subLayerIds": [],
   "maxScale": 0,
   "name": "China_Province_pl@China",
   "defaultVisibility": true,
   "id": 50,
   "minScale": 0,
   "supportsDynamicLegends": true,
   "type": "Feature Layer",
   "parentLayerId": 0,
   "geometryType": "esriGeometryPolygon"
  },
  {
   "subLayerIds": [],
   "maxScale": 0,
   "name": "World_Continent_pl@China",
   "defaultVisibility": true,
   "id": 51,
   "minScale": 0,
   "supportsDynamicLegends": true,
   "type": "Feature Layer",
   "parentLayerId": 0,
   "geometryType": "esriGeometryPolygon"
  },
  {
   "subLayerIds": [],
   "maxScale": 0,
   "name": "Hydside_Area_pg@China",
   "defaultVisibility": true,
   "id": 52,
   "minScale": 0,
   "supportsDynamicLegends": true,
   "type": "Feature Layer",
   "parentLayerId": 0,
   "geometryType": "esriGeometryPolygon"
  },
  {
   "subLayerIds": [],
   "maxScale": 0,
   "name": "World_Division_pl@China",
   "defaultVisibility": true,
   "id": 53,
   "minScale": 0,
   "supportsDynamicLegends": true,
   "type": "Feature Layer",
   "parentLayerId": 0,
   "geometryType": "esriGeometryPolygon"
  }
 ],
 "mapName": "ChinaDark",
 "minScale": 1.0E12,
 "spatialReference": {
  "latestWKID": 3857,
  "wkid": 3857
 }
}
